BEGIN:VCALENDAR
VERSION:2.0
PRODID:-//Sabre//Sabre VObject 4.2.0//EN
CALSCALE:GREGORIAN
BEGIN:VEVENT
UID:tiki-3-1776
DTSTAMP:20200129T220415Z
SUMMARY:[GuSp] Heimstunde
DTSTART:20200623T160000Z
DTEND:20200623T173000Z
DESCRIPTION:
LAST-MODIFIED:20200129T224606Z
CONTACT:matthias@pfadi87.at
END:VEVENT
END:VCALENDAR
