BEGIN:VCALENDAR
VERSION:2.0
PRODID:-//Sabre//Sabre VObject 4.2.0//EN
CALSCALE:GREGORIAN
BEGIN:VEVENT
UID:tiki-3-1777
DTSTAMP:20200129T220415Z
SUMMARY:[GuSp] Heimstunde
DTSTART:20200630T160000Z
DTEND:20200630T173000Z
DESCRIPTION:
LAST-MODIFIED:20200129T224621Z
CONTACT:matthias@pfadi87.at
END:VEVENT
END:VCALENDAR
