BEGIN:VCALENDAR
VERSION:2.0
PRODID:-//Sabre//Sabre VObject 4.2.0//EN
CALSCALE:GREGORIAN
BEGIN:VEVENT
UID:tiki-5-1780
DTSTAMP:20200803T070306Z
SUMMARY:Startveranstaltung 2020
DTSTART:20200906T073000Z
DTEND:20200906T123000Z
DESCRIPTION:Beginn: Sonntag\, 6.September 2020\, um 9:30 am Parkplatz am En
 de der \\nKellergasse (Senderparkplatz) \\n\\n\\n\\nDauer: ca. 4-5 Stund
 en\, genaues Ende wird noch bekannt gegeben \\n\\n\\n\\nEs wird eine klei
 ne Wanderung auf den Bisamberg mit Programm geben. Bei Schlechtwetter oder
  \\ncoronabedingten Änderungen der Maßnahmen werden wir rechtzeitig Bes
 cheid geben.\\n
LAST-MODIFIED:20200803T070306Z
CONTACT:matthias@pfadi87.at
END:VEVENT
END:VCALENDAR
