BEGIN:VCALENDAR
VERSION:2.0
PRODID:-//Sabre//Sabre VObject 4.2.0//EN
CALSCALE:GREGORIAN
BEGIN:VEVENT
UID:tiki-2-1782
DTSTAMP:20200903T165629Z
SUMMARY:Heimstunde - Serigala
DTSTART:20200914T153000Z
DTEND:20200914T170000Z
DESCRIPTION:
LAST-MODIFIED:20200903T165732Z
CONTACT:lukas@pfadi87.at
END:VEVENT
END:VCALENDAR
