BEGIN:VCALENDAR
VERSION:2.0
PRODID:-//Sabre//Sabre VObject 4.2.0//EN
CALSCALE:GREGORIAN
BEGIN:VEVENT
UID:tiki-2-1783
DTSTAMP:20200903T165721Z
SUMMARY:Heimstunde - Amarok
DTSTART:20200921T153000Z
DTEND:20200921T170000Z
DESCRIPTION:
LAST-MODIFIED:20200903T165740Z
CONTACT:lukas@pfadi87.at
END:VEVENT
END:VCALENDAR
