BEGIN:VCALENDAR
VERSION:2.0
PRODID:-//Sabre//Sabre VObject 4.2.0//EN
CALSCALE:GREGORIAN
BEGIN:VEVENT
UID:tiki-2-1784
DTSTAMP:20200903T165812Z
SUMMARY:Heimstunde - Serigala
DTSTART:20200928T153000Z
DTEND:20200928T170000Z
DESCRIPTION:
LAST-MODIFIED:20200903T165812Z
CONTACT:lukas@pfadi87.at
END:VEVENT
END:VCALENDAR
