BEGIN:VCALENDAR
VERSION:2.0
PRODID:-//Sabre//Sabre VObject 4.2.0//EN
CALSCALE:GREGORIAN
BEGIN:VEVENT
UID:tiki-2-1785
DTSTAMP:20200903T165847Z
SUMMARY:Heimstunde - Amarok
DTSTART:20201005T153000Z
DTEND:20201005T170000Z
DESCRIPTION:
LAST-MODIFIED:20200903T165847Z
CONTACT:lukas@pfadi87.at
END:VEVENT
END:VCALENDAR
