BEGIN:VCALENDAR
VERSION:2.0
PRODID:-//Sabre//Sabre VObject 4.2.0//EN
CALSCALE:GREGORIAN
BEGIN:VEVENT
UID:tiki-2-1786
DTSTAMP:20200903T165936Z
SUMMARY:Heimstunde - Serigala
DTSTART:20201012T153000Z
DTEND:20201012T170000Z
DESCRIPTION:
LAST-MODIFIED:20200903T165936Z
CONTACT:lukas@pfadi87.at
END:VEVENT
END:VCALENDAR
