BEGIN:VCALENDAR
VERSION:2.0
PRODID:-//Sabre//Sabre VObject 4.2.0//EN
CALSCALE:GREGORIAN
BEGIN:VEVENT
UID:tiki-2-1787
DTSTAMP:20200903T170005Z
SUMMARY:Heimstunde - Amarok
DTSTART:20201019T133000Z
DTEND:20201019T150000Z
DESCRIPTION:
LAST-MODIFIED:20200903T170005Z
CONTACT:lukas@pfadi87.at
END:VEVENT
END:VCALENDAR
