BEGIN:VCALENDAR
VERSION:2.0
PRODID:-//Sabre//Sabre VObject 4.2.0//EN
CALSCALE:GREGORIAN
BEGIN:VEVENT
UID:tiki-2-1792
DTSTAMP:20200903T170550Z
SUMMARY:Heimstunde - Serigala
DTSTART:20201207T163000Z
DTEND:20201207T180000Z
DESCRIPTION:
LAST-MODIFIED:20200903T170550Z
CONTACT:lukas@pfadi87.at
END:VEVENT
END:VCALENDAR
