BEGIN:VCALENDAR
VERSION:2.0
PRODID:-//Sabre//Sabre VObject 4.2.0//EN
CALSCALE:GREGORIAN
BEGIN:VEVENT
UID:tiki-2-1793
DTSTAMP:20200903T170719Z
SUMMARY:Heimstunde - Amarok
DTSTART:20201214T163000Z
DTEND:20201214T180000Z
DESCRIPTION:
LAST-MODIFIED:20200903T170719Z
CONTACT:lukas@pfadi87.at
END:VEVENT
END:VCALENDAR
