BEGIN:VCALENDAR
VERSION:2.0
PRODID:-//Sabre//Sabre VObject 4.2.0//EN
CALSCALE:GREGORIAN
BEGIN:VEVENT
UID:tiki-2-1794
DTSTAMP:20200903T170812Z
SUMMARY:Heimstunde - Serigala
DTSTART:20210111T163000Z
DTEND:20210111T180000Z
DESCRIPTION:
LAST-MODIFIED:20200903T170812Z
CONTACT:lukas@pfadi87.at
END:VEVENT
END:VCALENDAR
