BEGIN:VCALENDAR
VERSION:2.0
PRODID:-//Sabre//Sabre VObject 4.2.0//EN
CALSCALE:GREGORIAN
BEGIN:VEVENT
UID:tiki-2-1795
DTSTAMP:20200903T170849Z
SUMMARY:Heimstunde - Amarok
DTSTART:20210118T160000Z
DTEND:20210118T180000Z
DESCRIPTION:
LAST-MODIFIED:20200903T170849Z
CONTACT:lukas@pfadi87.at
END:VEVENT
END:VCALENDAR
