BEGIN:VCALENDAR
VERSION:2.0
PRODID:-//Sabre//Sabre VObject 4.2.0//EN
CALSCALE:GREGORIAN
BEGIN:VEVENT
UID:tiki-3-1797
DTSTAMP:20200908T090237Z
SUMMARY:Online Heimstunde
DTSTART:20200922T160000Z
DTEND:20200922T173000Z
DESCRIPTION:
LAST-MODIFIED:20200927T174212Z
CONTACT:matthias@pfadi87.at
END:VEVENT
END:VCALENDAR
