BEGIN:VCALENDAR
VERSION:2.0
PRODID:-//Sabre//Sabre VObject 4.2.0//EN
CALSCALE:GREGORIAN
BEGIN:VEVENT
UID:tiki-3-1798
DTSTAMP:20200908T090306Z
SUMMARY:Heimstunde Gruppe 2
DTSTART:20200929T160000Z
DTEND:20200929T180000Z
DESCRIPTION:
LAST-MODIFIED:20200908T090306Z
CONTACT:matthias@pfadi87.at
END:VEVENT
END:VCALENDAR
