BEGIN:VCALENDAR
VERSION:2.0
PRODID:-//Sabre//Sabre VObject 4.2.0//EN
CALSCALE:GREGORIAN
BEGIN:VEVENT
UID:tiki-3-1799
DTSTAMP:20200908T090347Z
SUMMARY:Heimstunde Gruppe 1
DTSTART:20201006T160000Z
DTEND:20201006T173000Z
DESCRIPTION:
LAST-MODIFIED:20200927T174224Z
CONTACT:matthias@pfadi87.at
END:VEVENT
END:VCALENDAR
