BEGIN:VCALENDAR
VERSION:2.0
PRODID:-//Sabre//Sabre VObject 4.2.0//EN
CALSCALE:GREGORIAN
BEGIN:VEVENT
UID:tiki-3-1800
DTSTAMP:20200908T090424Z
SUMMARY:Heimstunde Gruppe 2
DTSTART:20201013T160000Z
DTEND:20201013T180000Z
DESCRIPTION:
LAST-MODIFIED:20200927T174309Z
CONTACT:matthias@pfadi87.at
END:VEVENT
END:VCALENDAR
