BEGIN:VCALENDAR
VERSION:2.0
PRODID:-//Sabre//Sabre VObject 4.2.0//EN
CALSCALE:GREGORIAN
BEGIN:VEVENT
UID:tiki-1-1802
DTSTAMP:20200908T090706Z
SUMMARY:Herbstferien
DTSTART:20201025T230000Z
DTEND:20201030T230000Z
DESCRIPTION:
LAST-MODIFIED:20200908T090724Z
CONTACT:matthias@pfadi87.at
END:VEVENT
END:VCALENDAR
