BEGIN:VCALENDAR
VERSION:2.0
PRODID:-//Sabre//Sabre VObject 4.2.0//EN
CALSCALE:GREGORIAN
BEGIN:VEVENT
UID:tiki-3-1803
DTSTAMP:20200908T090816Z
SUMMARY:Online Heimstunde Gruppe 2
DTSTART:20201103T170000Z
DTEND:20201103T180000Z
DESCRIPTION:
LAST-MODIFIED:20201104T125737Z
CONTACT:julia@pfadi87.at
END:VEVENT
END:VCALENDAR
