BEGIN:VCALENDAR
VERSION:2.0
PRODID:-//Sabre//Sabre VObject 4.2.0//EN
CALSCALE:GREGORIAN
BEGIN:VEVENT
UID:tiki-4-1812
DTSTAMP:20200911T091117Z
SUMMARY:Heimstunde (Outdoor)
DTSTART:20200914T170000Z
DTEND:20200914T190000Z
DESCRIPTION:Aufnahme der neuen CaEx - Outdoor
LAST-MODIFIED:20200911T091117Z
CONTACT:constantin@pfadi87.at
END:VEVENT
END:VCALENDAR
