BEGIN:VCALENDAR
VERSION:2.0
PRODID:-//Sabre//Sabre VObject 4.2.0//EN
CALSCALE:GREGORIAN
BEGIN:VEVENT
UID:tiki-4-1813
DTSTAMP:20200911T091237Z
SUMMARY:Heimstunde
DTSTART:20200921T173000Z
DTEND:20200921T190000Z
DESCRIPTION:1. Heimstunde
LAST-MODIFIED:20201021T181134Z
CONTACT:constantin@pfadi87.at
END:VEVENT
END:VCALENDAR
