BEGIN:VCALENDAR
VERSION:2.0
PRODID:-//Sabre//Sabre VObject 4.2.0//EN
CALSCALE:GREGORIAN
BEGIN:VEVENT
UID:tiki-4-1814
DTSTAMP:20201021T181056Z
SUMMARY:Heimstunde
DTSTART:20200928T173000Z
DTEND:20200928T193000Z
DESCRIPTION:
LAST-MODIFIED:20201021T181117Z
CONTACT:constantin@pfadi87.at
END:VEVENT
END:VCALENDAR
