BEGIN:VCALENDAR
VERSION:2.0
PRODID:-//Sabre//Sabre VObject 4.2.0//EN
CALSCALE:GREGORIAN
BEGIN:VEVENT
UID:tiki-4-1815
DTSTAMP:20201021T181202Z
SUMMARY:Heimstunde
DTSTART:20201005T173000Z
DTEND:20201005T190000Z
DESCRIPTION:
LAST-MODIFIED:20201021T181202Z
CONTACT:constantin@pfadi87.at
END:VEVENT
END:VCALENDAR
