BEGIN:VCALENDAR
VERSION:2.0
PRODID:-//Sabre//Sabre VObject 4.2.0//EN
CALSCALE:GREGORIAN
BEGIN:VEVENT
UID:tiki-4-1816
DTSTAMP:20201021T181229Z
SUMMARY:Heimstunde
DTSTART:20201021T173000Z
DTEND:20201021T190000Z
DESCRIPTION:
LAST-MODIFIED:20201021T181229Z
CONTACT:constantin@pfadi87.at
END:VEVENT
END:VCALENDAR
