BEGIN:VCALENDAR
VERSION:2.0
PRODID:-//Sabre//Sabre VObject 4.2.0//EN
CALSCALE:GREGORIAN
BEGIN:VEVENT
UID:tiki-4-1818
DTSTAMP:20201021T181328Z
SUMMARY:Heimstunde
DTSTART:20201012T172900Z
DTEND:20201012T182900Z
DESCRIPTION:
LAST-MODIFIED:20201021T181336Z
CONTACT:constantin@pfadi87.at
END:VEVENT
END:VCALENDAR
