BEGIN:VCALENDAR
VERSION:2.0
PRODID:-//Sabre//Sabre VObject 4.2.0//EN
CALSCALE:GREGORIAN
BEGIN:VEVENT
UID:tiki-4-1820
DTSTAMP:20201021T181409Z
SUMMARY:Heimstunde
DTSTART:20201109T183000Z
DTEND:20201109T200000Z
DESCRIPTION:
LAST-MODIFIED:20201021T181409Z
CONTACT:constantin@pfadi87.at
END:VEVENT
END:VCALENDAR
