BEGIN:VCALENDAR
VERSION:2.0
PRODID:-//Sabre//Sabre VObject 4.2.0//EN
CALSCALE:GREGORIAN
BEGIN:VEVENT
UID:tiki-3-1824
DTSTAMP:20201129T215610Z
SUMMARY:Online Heimstunde
DTSTART:20201201T170000Z
DTEND:20201201T183000Z
DESCRIPTION:
LAST-MODIFIED:20201129T215738Z
CONTACT:julia@pfadi87.at
END:VEVENT
END:VCALENDAR
