BEGIN:VCALENDAR
VERSION:2.0
PRODID:-//Sabre//Sabre VObject 4.2.0//EN
CALSCALE:GREGORIAN
BEGIN:VEVENT
UID:tiki-4-1825
DTSTAMP:20201129T215652Z
SUMMARY:Ereignis ohne Name
DTSTART:20201116T170000Z
DTEND:20201116T183000Z
DESCRIPTION:
LAST-MODIFIED:20201129T215652Z
CONTACT:julia@pfadi87.at
END:VEVENT
END:VCALENDAR
