BEGIN:VCALENDAR
VERSION:2.0
PRODID:-//Sabre//Sabre VObject 4.2.0//EN
CALSCALE:GREGORIAN
BEGIN:VEVENT
UID:tiki-1-1979
DTSTAMP:20220414T164013Z
SUMMARY:Kolonnenpfingstlager (alle Stufen)
DTSTART:20220602T220000Z
DTEND:20220606T223900Z
DESCRIPTION:
LAST-MODIFIED:20220414T164803Z
CONTACT:julia@pfadi87.at
END:VEVENT
END:VCALENDAR
