BEGIN:VCALENDAR
VERSION:2.0
PRODID:-//Sabre//Sabre VObject 4.2.0//EN
CALSCALE:GREGORIAN
BEGIN:VEVENT
UID:tiki-3-1980
DTSTAMP:20220414T164123Z
SUMMARY:Sommerlager Guides und Späher
DTSTART:20220701T220000Z
DTEND:20220710T084000Z
DESCRIPTION:
LAST-MODIFIED:20220414T164744Z
CONTACT:julia@pfadi87.at
END:VEVENT
END:VCALENDAR
