BEGIN:VCALENDAR
VERSION:2.0
PRODID:-//Sabre//Sabre VObject 4.2.0//EN
CALSCALE:GREGORIAN
BEGIN:VEVENT
UID:tiki-1-1981
DTSTAMP:20220414T164625Z
SUMMARY:Jahresstart (alle Stufen)
DTSTART:20220909T220000Z
DTEND:20220909T230000Z
DESCRIPTION:
LAST-MODIFIED:20220414T164625Z
CONTACT:julia@pfadi87.at
END:VEVENT
END:VCALENDAR
