BEGIN:VCALENDAR
VERSION:2.0
PRODID:-//Sabre//Sabre VObject 4.2.0//EN
CALSCALE:GREGORIAN
BEGIN:VEVENT
UID:tiki-3-2018
DTSTAMP:20220906T152909Z
SUMMARY:Heimstunde
DTSTART:20221213T160000Z
DTEND:20221213T173000Z
DESCRIPTION:
LAST-MODIFIED:20220906T152909Z
CONTACT:matthias@pfadi87.at
END:VEVENT
END:VCALENDAR
